BEGIN:VCALENDAR
VERSION:2.0
PRODID:Events Booking
BEGIN:VEVENT
UID:69e8b961e20a5
SUMMARY:[VTT | Privé] Verbier
DESCRIPTION:
LOCATION:Rue de Médran 41\, 1936 Verbier\, Suisse
DTSTART:20210722T110000Z
DTEND:20210722T153000Z
DTSTAMP:20260422T140449Z
ORGANIZER;CN=Exoride:MAILTO:webmaster@exoride.net
GEO:46.093655;7.233627
X-APPLE-STRUCTURED-LOCATION;VALUE=URI;X-ADDRESS=Rue de Médran 41\, 1936 Ve
 rbier\, Suisse;X-APPLE-RADIUS=72;X-TITLE=Place Médran:46.093655;7.233627
END:VEVENT
END:VCALENDAR