BEGIN:VCALENDAR
VERSION:2.0
PRODID:Events Booking
BEGIN:VEVENT
UID:69e8a51a5a8fd
SUMMARY:Le Grand Saint-Bernard 
DESCRIPTION:[widgetkit id=\"86\" name=\"Slideshow - aper&ccedil\;u - Saint 
 Bernard Light - FR\"]
DTSTART:20160703T070000Z
DTEND:20160703T150000Z
DTSTAMP:20260422T123818Z
ORGANIZER;CN=Exoride:MAILTO:webmaster@exoride.net
END:VEVENT
END:VCALENDAR