BEGIN:VCALENDAR
VERSION:2.0
PRODID:Events Booking
BEGIN:VEVENT
UID:69e8bad8bd65a
SUMMARY:[VTT | Privé] Orsières
DESCRIPTION:
LOCATION:La Douay 12\, 1937 Orsières\, Suisse
DTSTART:20210719T113000Z
DTEND:20210719T153000Z
DTSTAMP:20260422T141104Z
ORGANIZER;CN=Exoride:MAILTO:webmaster@exoride.net
GEO:46.053147;7.15002
X-APPLE-STRUCTURED-LOCATION;VALUE=URI;X-ADDRESS=La Douay 12\, 1937 Orsière
 s\, Suisse;X-APPLE-RADIUS=72;X-TITLE=Parking de la Douay:46.053147;7.15002
END:VEVENT
END:VCALENDAR