BEGIN:VCALENDAR
VERSION:2.0
PRODID:Events Booking
BEGIN:VEVENT
UID:69e8a3b653bf0
SUMMARY:Endu'Rock the Casbah | Novembre 2016
DESCRIPTION:[widgetkit id=\"1\" name=\"Slideshow - aper&ccedil\;u - Enduroc
 k - FR\"]
DTSTART:20161121T080000Z
DTEND:20161128T110000Z
DTSTAMP:20260422T123222Z
ORGANIZER;CN=Exoride:MAILTO:webmaster@exoride.net
END:VEVENT
END:VCALENDAR