BEGIN:VCALENDAR
VERSION:2.0
PRODID:Events Booking
BEGIN:VEVENT
UID:69e88f875accf
SUMMARY:Iran'duro | Octobre 2016
DESCRIPTION:[widgetkit id=\"70\" name=\"Slideshow - aper&ccedil\;u - Iran -
  FR\"]
DTSTART:20161021T060000Z
DTEND:20161030T110000Z
DTSTAMP:20260422T110615Z
ORGANIZER;CN=Exoride:MAILTO:webmaster@exoride.net
END:VEVENT
END:VCALENDAR