BEGIN:VCALENDAR
VERSION:2.0
PRODID:Events Booking
BEGIN:VEVENT
UID:69e890becab21
SUMMARY:Swiss Made | Juillet 2022
DESCRIPTION:[widgetkit id=\"68\" name=\"Slideshow - aperçu - Valais Expres
 s - FR\"]
 &nbsp\;
 
 Technique(?) 3/4
 Physique(?) 2/4
 Durée 8 jou
 rs
 BIKE&nbsp\;&nbsp\;&nbsp\;E-BIKE&nbsp\;(?)
 
DTSTART:20220722T100000Z
DTEND:20220729T100000Z
DTSTAMP:20260422T111126Z
ORGANIZER;CN=Exoride:MAILTO:webmaster@exoride.net
END:VEVENT
END:VCALENDAR