BEGIN:VCALENDAR
VERSION:2.0
PRODID:Events Booking
BEGIN:VEVENT
UID:69e8a74ba5640
SUMMARY:Swiss Made | Juin 2022
DESCRIPTION:[widgetkit id=\"68\" name=\"Slideshow - aperçu - Valais Expres
 s - FR\"]
 &nbsp\;
 
 Technique(?) 3/4
 Physique(?) 2/4
 Durée 8 jou
 rs
 BIKE&nbsp\;&nbsp\;&nbsp\;E-BIKE&nbsp\;(?)
 
DTSTART:20220625T100000Z
DTEND:20220702T100000Z
DTSTAMP:20260422T124739Z
ORGANIZER;CN=Exoride:MAILTO:webmaster@exoride.net
END:VEVENT
END:VCALENDAR