BEGIN:VCALENDAR
VERSION:2.0
PRODID:Events Booking
BEGIN:VEVENT
UID:69e8b474d60b6
SUMMARY:Endu'Rock the Casbah | Février 2017
DESCRIPTION:[widgetkit id=\"1\" name=\"Slideshow - aperçu - Endurock - FR\
 "]
DTSTART:20170226T080000Z
DTEND:20170305T110000Z
DTSTAMP:20260422T134348Z
ORGANIZER;CN=Exoride:MAILTO:webmaster@exoride.net
END:VEVENT
END:VCALENDAR