BEGIN:VCALENDAR
VERSION:2.0
PRODID:Events Booking
BEGIN:VEVENT
UID:69e8b40d03c17
SUMMARY:Iran'duro | Mai 2017
DESCRIPTION:[widgetkit id=\"70\" name=\"Slideshow - aper&ccedil\;u - Iran -
  FR\"]
DTSTART:20170519T070000Z
DTEND:20170528T100000Z
DTSTAMP:20260422T134205Z
ORGANIZER;CN=Exoride:MAILTO:webmaster@exoride.net
END:VEVENT
END:VCALENDAR