BEGIN:VCALENDAR
VERSION:2.0
PRODID:Events Booking
BEGIN:VEVENT
UID:69e88f97e4bfa
SUMMARY:Dolo'Mythic Ride | Septembre 2017
DESCRIPTION:[widgetkit id=\"71\" name=\"Slideshow - aperçu - Dolomythic - 
 FR\"]
DTSTART:20170911T100000Z
DTEND:20170917T100000Z
DTSTAMP:20260422T110631Z
ORGANIZER;CN=Exoride:MAILTO:webmaster@exoride.net
END:VEVENT
END:VCALENDAR