BEGIN:VCALENDAR
VERSION:2.0
PRODID:Events Booking
BEGIN:VEVENT
UID:69e8a376e9b92
SUMMARY:Swiss Made | Juillet 2017
DESCRIPTION:[widgetkit id=\"68\" name=\"Slideshow - aperçu - Valais Expres
 s - FR\"]
DTSTART:20170721T100000Z
DTEND:20170728T100000Z
DTSTAMP:20260422T123118Z
ORGANIZER;CN=Exoride:MAILTO:webmaster@exoride.net
END:VEVENT
END:VCALENDAR