BEGIN:VCALENDAR
VERSION:2.0
PRODID:Events Booking
BEGIN:VEVENT
UID:69e88f33dd6ca
SUMMARY:[E-BIKE] | Entremont - Privé
DESCRIPTION:[widgetkit id=\"298\" name=\"Slideshow - aperçu - Shuttles - F
 R\"]
 &nbsp\;
 
 Technique(?) 3\,5/4
 Physique(?) 2/4
 Durée 1 jour
 
 BIKE&nbsp\;&nbsp\;&nbsp\;E-BIKE&nbsp\;(?)
 
LOCATION:Chez-les-Addy 5\, 1937 Orsières\, Suisse
DTSTART:20220613T070000Z
DTEND:20220613T153000Z
DTSTAMP:20260422T110451Z
ORGANIZER;CN=Exoride:MAILTO:webmaster@exoride.net
GEO:46.039991;7.153781
X-APPLE-STRUCTURED-LOCATION;VALUE=URI;X-ADDRESS=Chez-les-Addy 5\, 1937 Orsi
 ères\, Suisse;X-APPLE-RADIUS=72;X-TITLE=Exoride:46.039991;7.153781
END:VEVENT
END:VCALENDAR