BEGIN:VCALENDAR
VERSION:2.0
PRODID:Events Booking
BEGIN:VEVENT
UID:69e8a7addcbf1
SUMMARY:Val d'Entremont | Privé
DESCRIPTION:
 Technique(?) 3/4
 Physique(?) 3/4
 Durée 8 heures
 BIKE&
 nbsp\;&nbsp\;&nbsp\;E-BIKE&nbsp\;(?)
 
LOCATION:Le Châble TV\, 1934 Bagnes\, Suisse
DTSTART:20220614T060000Z
DTEND:20220614T160000Z
DTSTAMP:20260422T124917Z
ORGANIZER;CN=Exoride:MAILTO:webmaster@exoride.net
GEO:46.078086;7.21497
X-APPLE-STRUCTURED-LOCATION;VALUE=URI;X-ADDRESS=Le Châble TV\, 1934 Bagnes
 \, Suisse;X-APPLE-RADIUS=72;X-TITLE=Parking du Châble:46.078086;7.21497
END:VEVENT
END:VCALENDAR