BEGIN:VCALENDAR
VERSION:2.0
PRODID:Events Booking
BEGIN:VEVENT
UID:69e8bab7aebae
SUMMARY:Val d'Entremont | Privé
DESCRIPTION:
DTSTART:20220704T070000Z
DTEND:20220704T160000Z
DTSTAMP:20260422T141031Z
ORGANIZER;CN=Exoride:MAILTO:webmaster@exoride.net
END:VEVENT
END:VCALENDAR