BEGIN:VCALENDAR
VERSION:2.0
PRODID:Events Booking
BEGIN:VEVENT
UID:69e8a1169504a
SUMMARY:Valais Express | Octobre 2017
DESCRIPTION:[widgetkit id=\"69\" name=\"Slideshow - aper&ccedil\;u - Valais
  Express - FR\"]
DTSTART:20171013T120000Z
DTEND:20171015T160000Z
DTSTAMP:20260422T122110Z
ORGANIZER;CN=Exoride:MAILTO:webmaster@exoride.net
END:VEVENT
END:VCALENDAR