BEGIN:VCALENDAR
VERSION:2.0
PRODID:Events Booking
BEGIN:VEVENT
UID:69e8b5cace98a
SUMMARY:M'goun Hike & Ride | Eté 2017
DESCRIPTION:[widgetkit id=\"67\" name=\"Slideshow - aperçu - M'goun - FR\"
 ]
DTSTART:20170802T070000Z
DTEND:20170810T100000Z
DTSTAMP:20260422T134930Z
ORGANIZER;CN=Exoride:MAILTO:webmaster@exoride.net
END:VEVENT
END:VCALENDAR