BEGIN:VCALENDAR
VERSION:2.0
PRODID:Events Booking
BEGIN:VEVENT
UID:69e8b3aecd40b
SUMMARY:Val d'Entremont | Privé
DESCRIPTION:
DTSTART:20220902T070000Z
DTEND:20220902T160000Z
DTSTAMP:20260422T134030Z
ORGANIZER;CN=Exoride:MAILTO:webmaster@exoride.net
END:VEVENT
END:VCALENDAR