BEGIN:VCALENDAR
VERSION:2.0
PRODID:Events Booking
BEGIN:VEVENT
UID:69e8a7adbb5c2
SUMMARY:Val d'Entremont | niveau 3/4
DESCRIPTION:
 Technique(?) 3/4
 Physique(?) 3/4
 Durée 8 heures
 BIKE&
 nbsp\;&nbsp\;&nbsp\;E-BIKE&nbsp\;(?)
 
LOCATION:Route de la Gare 25\, 1937 Orsières
DTSTART:20220708T070000Z
DTEND:20220708T160000Z
DTSTAMP:20260422T124917Z
ORGANIZER;CN=Exoride:MAILTO:webmaster@exoride.net
GEO:46.028597;7.143619
X-APPLE-STRUCTURED-LOCATION;VALUE=URI;X-ADDRESS=Route de la Gare 25\, 1937 
 Orsières;X-APPLE-RADIUS=72;X-TITLE=Hôtel Terminus:46.028597;7.143619
END:VEVENT
END:VCALENDAR