BEGIN:VCALENDAR
VERSION:2.0
PRODID:Events Booking
BEGIN:VEVENT
UID:69e8a3746f8ca
SUMMARY:Endur'Hautes Alpes | Août 2017
DESCRIPTION:[widgetkit id=\"186\" name=\"Slideshow - aperçu - Endurock - F
 R\"]
DTSTART:20170811T070000Z
DTEND:20170817T100000Z
DTSTAMP:20260422T123116Z
ORGANIZER;CN=Exoride:MAILTO:webmaster@exoride.net
END:VEVENT
END:VCALENDAR