BEGIN:VCALENDAR
VERSION:2.0
PRODID:Events Booking
BEGIN:VEVENT
UID:69e88f97321f8
SUMMARY:Valais central | Privé
DESCRIPTION:[widgetkit id=\"298\" name=\"Slideshow - aperçu - Shuttles - F
 R\"]
 &nbsp\;
 
 Technique(?) 3\,5/4
 Physique(?) 2/4
 Durée 1 jour
 
 BIKE&nbsp\;&nbsp\;&nbsp\;E-BIKE&nbsp\;(?)
 
DTSTART:20220924T070000Z
DTEND:20220924T160000Z
DTSTAMP:20260422T110631Z
ORGANIZER;CN=Exoride:MAILTO:webmaster@exoride.net
END:VEVENT
END:VCALENDAR