BEGIN:VCALENDAR
VERSION:2.0
PRODID:Events Booking
BEGIN:VEVENT
UID:69e8a14ee5477
SUMMARY:Valais Express | privé | Septembre 2017
DESCRIPTION:[widgetkit id=\"69\" name=\"Slideshow - aper&ccedil\;u - Valais
  Express - FR\"]
DTSTART:20170902T060000Z
DTEND:20170904T160000Z
DTSTAMP:20260422T122206Z
ORGANIZER;CN=Exoride:MAILTO:webmaster@exoride.net
END:VEVENT
END:VCALENDAR