BEGIN:VCALENDAR
VERSION:2.0
PRODID:Events Booking
BEGIN:VEVENT
UID:69e8a6db7fe13
SUMMARY:Endu'Rock the Casbah | Février 2023
DESCRIPTION:[widgetkit id=\"1\"]&nbsp\;
 
 Technique(?) 3/4
 Physique(?)
  3/4
 Durée 8 jours
 BIKE&nbsp\;&nbsp\;&nbsp\;E-BIKE&nbsp\;(?)
 
DTSTART:20230218T080000Z
DTEND:20230225T110000Z
DTSTAMP:20260422T124547Z
ORGANIZER;CN=Exoride:MAILTO:webmaster@exoride.net
END:VEVENT
END:VCALENDAR