BEGIN:VCALENDAR
VERSION:2.0
PRODID:Events Booking
BEGIN:VEVENT
UID:69e8a3ac157c4
SUMMARY:[E-BIKE | Intermédiaire] Martigny (5)
DESCRIPTION:
LOCATION:Parking belle Usine\, Rte du Soleil 20\, 1926 Fully\, Suisse
DTSTART:20220305T083000Z
DTEND:20220305T163000Z
DTSTAMP:20260422T123212Z
ORGANIZER;CN=Exoride:MAILTO:webmaster@exoride.net
GEO:46.142557;7.115994
X-APPLE-STRUCTURED-LOCATION;VALUE=URI;X-ADDRESS=Parking belle Usine\, Rte d
 u Soleil 20\, 1926 Fully\, Suisse;X-APPLE-RADIUS=72;X-TITLE=Parking de la 
 Belle Usine - Fully:46.142557;7.115994
END:VEVENT
END:VCALENDAR