BEGIN:VCALENDAR
VERSION:2.0
PRODID:Events Booking
BEGIN:VEVENT
UID:69e8bb9b50c56
SUMMARY:[Maroc | Enduro] Décembre 2022
DESCRIPTION:[widgetkit id=\"1\"]&nbsp\;
 
 Technique(?) 3/4
 Physique(?)
  3/4
 Durée 8 jours
 BIKE&nbsp\;&nbsp\;&nbsp\;E-BIKE&nbsp\;(?)
 
DTSTART:20221223T080000Z
DTEND:20221230T110000Z
DTSTAMP:20260422T141419Z
ORGANIZER;CN=Exoride:MAILTO:webmaster@exoride.net
END:VEVENT
END:VCALENDAR