BEGIN:VCALENDAR
VERSION:2.0
PRODID:Events Booking
BEGIN:VEVENT
UID:69e8a580e71fe
SUMMARY:Endu'Rock the Casbah | Mars 2023
DESCRIPTION:[widgetkit id=\"1\"]&nbsp\;
 
 Technique(?) 3/4
 Physique(?)
  3/4
 Durée 8 jours
 BIKE&nbsp\;&nbsp\;&nbsp\;E-BIKE&nbsp\;(?)
 
DTSTART:20230325T080000Z
DTEND:20230401T100000Z
DTSTAMP:20260422T124000Z
ORGANIZER;CN=Exoride:MAILTO:webmaster@exoride.net
END:VEVENT
END:VCALENDAR