BEGIN:VCALENDAR
VERSION:2.0
PRODID:Events Booking
BEGIN:VEVENT
UID:69e8b4478baf2
SUMMARY:Cours de pilotage VTT | Niveau débutant
DESCRIPTION:[widgetkit id=\"97\" name=\"Slideshow - aper&ccedil\;u - Cours 
 pilotage - FR\"]
 Ce cours se d&eacute\;roule sur le bikepark de Verbier 
 (VS)
 Initiation au pilotage VTT pour d&eacute\;butants\, comprenant la j
 ourn&eacute\;e de cours\, la location du VTT et des protections.
 Plus d'
 infos &gt\;&gt\;
DTSTART:20170705T070000Z
DTEND:20170705T150000Z
DTSTAMP:20260422T134303Z
ORGANIZER;CN=Exoride:MAILTO:webmaster@exoride.net
END:VEVENT
END:VCALENDAR