BEGIN:VCALENDAR
VERSION:2.0
PRODID:Events Booking
BEGIN:VEVENT
UID:69e88f38b6fac
SUMMARY:Weekend Valais | Privé
DESCRIPTION:[widgetkit id=\"69\" name=\"Slideshow - aperçu - Valais Expres
 s - FR\"]
 &nbsp\;
 
 Technique(?) 3/4
 Physique(?) 2/4
 Durée 2 jou
 rs/2 nuits
 BIKE&nbsp\;&nbsp\;&nbsp\;E-BIKE&nbsp\;(?)
 
LOCATION:Rte de la Gare 19\, 1937 Orsières\, Suisse
DTSTART:20230527T063000Z
DTEND:20230528T160000Z
DTSTAMP:20260422T110456Z
ORGANIZER;CN=Exoride:MAILTO:webmaster@exoride.net
GEO:46.029836;7.14367
X-APPLE-STRUCTURED-LOCATION;VALUE=URI;X-ADDRESS=Rte de la Gare 19\, 1937 Or
 sières\, Suisse;X-APPLE-RADIUS=72;X-TITLE=Orsières:46.029836;7.14367
END:VEVENT
END:VCALENDAR