BEGIN:VCALENDAR
VERSION:2.0
PRODID:Events Booking
BEGIN:VEVENT
UID:69e8a4a9eb6d9
SUMMARY:Bas-Valais | niveau 2/4
DESCRIPTION:[widgetkit id=\"298\" name=\"Slideshow - aperçu - Shuttles - F
 R\"]
  
 
 Technique(?) 3\,5/4
 Physique(?) 2/4
 Durée 1 jour
 BIK
 E   E-BIKE (?)
 
LOCATION:Gare de Martigny-Croix\, avenue du Grand-Saint-Bernard\, 1921 Mart
 igny
DTSTART:20231029T080000Z
DTEND:20231029T173000Z
DTSTAMP:20260422T123625Z
ORGANIZER;CN=Exoride:MAILTO:webmaster@exoride.net
GEO:46.086667;7.057958
X-APPLE-STRUCTURED-LOCATION;VALUE=URI;X-ADDRESS=Gare de Martigny-Croix\, av
 enue du Grand-Saint-Bernard\, 1921 Martigny;X-APPLE-RADIUS=72;X-TITLE=Vala
 is:46.086667;7.057958
END:VEVENT
END:VCALENDAR