BEGIN:VCALENDAR
VERSION:2.0
PRODID:Events Booking
BEGIN:VEVENT
UID:69e8a58d1bb06
SUMMARY:Kachapuride
DESCRIPTION:
 
 Difficulty
 3\,5/4
 
 
 Endurance
 3\,5/4
 
 
 Bi
 ke
 MTB EMTB
 
 
DTSTART:20240805T070000Z
DTEND:20240815T100000Z
DTSTAMP:20260422T124013Z
ORGANIZER;CN=Exoride:MAILTO:webmaster@exoride.net
END:VEVENT
END:VCALENDAR