BEGIN:VCALENDAR
VERSION:2.0
PRODID:Events Booking
BEGIN:VEVENT
UID:69e8a6ea1e412
SUMMARY:M'goun Hike & Ride
DESCRIPTION:
 
 Difficulty
 3/4
 
 
 Endurance
 3/4
 
 
 Bike
 M
 TB EMTB
 
 
DTSTART:20280717T070000Z
DTEND:20280725T100000Z
DTSTAMP:20260422T124602Z
ORGANIZER;CN=Exoride:MAILTO:webmaster@exoride.net
END:VEVENT
END:VCALENDAR