BEGIN:VCALENDAR
VERSION:2.0
PRODID:Events Booking
BEGIN:VEVENT
UID:69e852fa8e346
SUMMARY:Kachapuride
DESCRIPTION:
DTSTART:20260730T070000Z
DTEND:20260809T100000Z
DTSTAMP:20260422T064754Z
ORGANIZER;CN=Exoride:MAILTO:webmaster@exoride.net
END:VEVENT
END:VCALENDAR