BEGIN:VCALENDAR
VERSION:2.0
PRODID:Events Booking
BEGIN:VEVENT
UID:69e8a67314f54
SUMMARY:Zagoride
DESCRIPTION:
 
 Technique
 1\,5/4
 
 
 Physique
 2\,5/4
 
 
 Vél
 o
 VTT VAE
 
 
DTSTART:20270206T080000Z
DTEND:20270213T110000Z
DTSTAMP:20260422T124403Z
ORGANIZER;CN=Exoride:MAILTO:webmaster@exoride.net
END:VEVENT
END:VCALENDAR