BEGIN:VCALENDAR
VERSION:2.0
PRODID:Events Booking
BEGIN:VEVENT
UID:69e8a771549bf
SUMMARY:Zagoride
DESCRIPTION:Technique1\,5/4Physique2\,5/4VéloMTB EMTB
DTSTART:20261128T080000Z
DTEND:20261205T110000Z
DTSTAMP:20260422T124817Z
ORGANIZER;CN=Exoride:MAILTO:webmaster@exoride.net
END:VEVENT
END:VCALENDAR