BEGIN:VCALENDAR
VERSION:2.0
PRODID:Events Booking
BEGIN:VEVENT
UID:69e88f3a2c1f0
SUMMARY:Aoste Ebike Tour
DESCRIPTION:
 
 Technique
 2\,5/4
 
 
 Physique
 2\,5/4
 
 
 Vél
 o
 VTT VAE
 
 
LOCATION:11100 Aoste\, Vallée d'Aoste\, Italie
DTSTART:20250613T070000Z
DTEND:20250615T160000Z
DTSTAMP:20260422T110458Z
ORGANIZER;CN=Exoride:MAILTO:webmaster@exoride.net
GEO:45.734955;7.313076
X-APPLE-STRUCTURED-LOCATION;VALUE=URI;X-ADDRESS=11100 Aoste\, Vallée d'Aos
 te\, Italie;X-APPLE-RADIUS=72;X-TITLE=Aoste:45.734955;7.313076
END:VEVENT
END:VCALENDAR